BEGIN:VCALENDAR
VERSION:2.0
PRODID:-//JDM.Guide//Event Calendar//EN
CALSCALE:GREGORIAN
METHOD:PUBLISH
BEGIN:VEVENT
UID:gr-summit-2026-fuji@jdm.guide
DTSTAMP:20260421T071450.569Z
DTSTART:20260530T000000Z
DTEND:20260530T063000Z
SUMMARY:GR SUMMIT 2026 (Fuji Speedway)
DESCRIPTION:A national GR-owner gathering at Fuji Speedway P1\, open to all GR-brand vehicle owners. Running simultaneously in the adjacent P2 car park is TOYOFEST JAPAN 2026. Entry is by registration via the official GR SUMMIT LINE account only.\n\nOfficial event page: https://www.instagram.com/p/DXT6U0ZkreU/
LOCATION:Fuji Speedway P1\, Oyama\, Shizuoka Prefecture
URL:https://jdm.guide/events/gr-summit-2026-fuji
END:VEVENT
END:VCALENDAR
