BEGIN:VCALENDAR
VERSION:2.0
PRODID:-//JDM.Guide//Event Calendar//EN
CALSCALE:GREGORIAN
METHOD:PUBLISH
BEGIN:VEVENT
UID:haruna-rotary-meeting-2026@jdm.guide
DTSTAMP:20260421T071454.317Z
DTSTART:20260530T010000Z
DTEND:20260530T070000Z
SUMMARY:Haruna Rotary Meeting 2026
DESCRIPTION:An annual open-air rotary car meeting at Ikaho Skating Rink on the slopes of Mt. Haruna in Gunma\, organised by D'z Garage. Every car that has ever been fitted with a rotary engine is welcome — FC3S\, FD3S\, SE3P\, and beyond. Walk-in entry on the day\; spectator parking available.\n\nOfficial event page: https://racry.jp/products/detail/1125
LOCATION:Ikaho Skating Rink\, 587-3 Ikaho\, Ikaho-cho\, Shibukawa-shi\, Gunma Prefecture
URL:https://jdm.guide/events/haruna-rotary-meeting-2026
END:VEVENT
END:VCALENDAR
