BEGIN:VCALENDAR
VERSION:2.0
PRODID:-//JDM.Guide//Event Calendar//EN
CALSCALE:GREGORIAN
METHOD:PUBLISH
BEGIN:VEVENT
UID:mister-cartoon-pull-up-car-show-2026@jdm.guide
DTSTAMP:20260421T081100.070Z
DTSTART:20260426T070000Z
DTEND:20260426T120000Z
SUMMARY:Mister Cartoon PULL UP Car Show 2026
DESCRIPTION:An evening outdoor car show in Chiba curated by Los Angeles tattoo artist and car culture icon Mister Cartoon\, featuring a Classic Porsche lineup presented by Sean Wotherspoon\, exclusive Tokyo Car Show merchandise\, and the RC Japan Ice Cream Truck drop.\n\nOfficial event page: https://www.instagram.com/p/DXPloJaj99w/
LOCATION:Festival Walk Soga\, 51-1 Kawasaki-cho\, Chuo-ku\, Chiba\, Chiba Prefecture
URL:https://jdm.guide/events/mister-cartoon-pull-up-car-show-2026
END:VEVENT
END:VCALENDAR
