BEGIN:VCALENDAR
VERSION:2.0
PRODID:-//JDM.Guide//Event Calendar//EN
CALSCALE:GREGORIAN
METHOD:PUBLISH
BEGIN:VEVENT
UID:s-heritage-night-2026@jdm.guide
DTSTAMP:20260421T080808.682Z
DTSTART:20260425T080000Z
DTEND:20260425T130000Z
SUMMARY:S-Heritage Night 2026
DESCRIPTION:An S-Chassis night meeting marking the 5th anniversary of SR HERITAGE JAPAN\, hosted by 超日産博. All four floors of the Funabashi Racecourse multi-story car park are taken over by Silvia and 180SX owners from across Japan under special lighting. Vehicle entry by advance registration\; gallery tickets ¥2\,000 on the door (women and elementary–junior-high students free).\n\nOfficial event page: https://www.instagram.com/p/DW1Ckz-geRB/
LOCATION:Funabashi Racecourse Multi-Story Car Park\, Funabashi\, Chiba Prefecture
URL:https://jdm.guide/events/s-heritage-night-2026
END:VEVENT
END:VCALENDAR
