BEGIN:VCALENDAR
VERSION:2.0
PRODID:-//JDM.Guide//Event Calendar//EN
CALSCALE:GREGORIAN
METHOD:PUBLISH
BEGIN:VEVENT
UID:tokyo-supercar-day-2026-saitama@jdm.guide
DTSTAMP:20260421T071456.106Z
DTSTART:20260517T010000Z
DTEND:20260517T070000Z
SUMMARY:TOKYO SUPERCAR DAY 2026 Saitama
DESCRIPTION:A free outdoor supercar and sports car festival held near Saitama Stadium 2002\, featuring around 100 display cars including Ferrari\, Lamborghini\, McLaren\, Porsche\, Aston Martin\, Lexus LFA\, Dallara\, and domestic classics. Activities include racing car demonstration runs\, a kids supercar classroom\, and food truck stalls. No parking available at the venue.\n\nOfficial event page: https://www.instagram.com/p/DXWWDrbFPLQ/
LOCATION:Daimon Kami-ike Chosetsuchi Hiroba (Special Venue near Saitama Stadium 2002)\, 2-1-191 Misono\, Midori-ku\, Saitama-shi\, Saitama
URL:https://jdm.guide/events/tokyo-supercar-day-2026-saitama
END:VEVENT
END:VCALENDAR
